BEGIN:VCALENDAR
VERSION:2.0
PRODID:-//ncc mitte//NONSGML kigkonsult.se iCalcreator 2.30.10//
CALSCALE:GREGORIAN
METHOD:PUBLISH
UID:5dff1522-4a2d-4f58-9250-66f739decd59
X-WR-CALNAME:iCagenda
X-WR-CALDESC:Event Management Extension for Joomla!
X-WR-RELCALID:3E26604A-50F4-4449-8B3E-E4F4932D05B5
X-WR-TIMEZONE:Europe/Berlin
BEGIN:VTIMEZONE
TZID:Europe/Berlin
BEGIN:STANDARD
TZNAME:CET
DTSTART:20251026T030000
TZOFFSETFROM:+0200
TZOFFSETTO:+0100
RDATE:20261025T030000
END:STANDARD
BEGIN:DAYLIGHT
TZNAME:CEST
DTSTART:20260329T020000
TZOFFSETFROM:+0100
TZOFFSETTO:+0200
RDATE:20270328T020000
END:DAYLIGHT
END:VTIMEZONE
BEGIN:VEVENT
UID:61ed9c37-900b-4403-bb7b-6378c6309440
DTSTAMP:20260423T104049Z
CATEGORIES:Dresden
CLASS:PUBLIC
DESCRIPTION;ALTREP="CID:<FFFF__=0ABBE548DFE235B58f9e8a93d@coffeebean.com>":
 Inhalte: Allplan Competence | Engineering
DTSTART:20260415T070000Z
DTEND:20260416T143000Z
GEO:00;0
LOCATION:ncc mitte\, Paradiesstraße 42\, 01217 Dresden
ORGANIZER:
SEQUENCE:1
SUMMARY:Allplan Competence | Engineering
TRANSP:OPAQUE
URL:https://ncc-mitte.de/schulungen/schulung-buchen/81-allplan-competence-e
 ngineering-2
END:VEVENT
END:VCALENDAR
